BEGIN:VCALENDAR
VERSION:2.0
X-WR-CALNAME: Les Pondarmes
PRODID:GIGPRESS 2.0 WORDPRESS PLUGIN
CALSCALE:GREGORIAN
X-WR-TIMEZONE:Etc/GMT
METHOD:PUBLISH
BEGIN:VTIMEZONE
TZID:GMT
BEGIN:STANDARD
DTSTART:20071028T010000
TZOFFSETTO:+0000
TZOFFSETFROM:+0000
END:STANDARD
END:VTIMEZONE
BEGIN:VEVENT
SUMMARY:Les Pondarmes à 
DESCRIPTION:
LOCATION:\, LAMOURA\, FR
UID:20260515-581-contact.undeces4@gmail.com
URL:https://www.undeces4.com
DTSTART;VALUE=DATE;TZID=GMT:20260515
DTEND;VALUE=DATE;TZID=GMT:20260515
DTSTAMP:20260423T013629Z
END:VEVENT
BEGIN:VEVENT
SUMMARY:Les Pondarmes à 
DESCRIPTION:
LOCATION:\, Clermont en Genevois\, FR
UID:20260614-568-contact.undeces4@gmail.com
URL:https://www.undeces4.com
DTSTART;VALUE=DATE;TZID=GMT:20260614
DTEND;VALUE=DATE;TZID=GMT:20260614
DTSTAMP:20260423T013629Z
END:VEVENT
BEGIN:VEVENT
SUMMARY:Les Pondarmes à 
DESCRIPTION:
LOCATION:\, Annecy\, FR
UID:20260618-569-contact.undeces4@gmail.com
URL:https://www.undeces4.com
DTSTART;VALUE=DATE;TZID=GMT:20260618
DTEND;VALUE=DATE;TZID=GMT:20260618
DTSTAMP:20260423T013629Z
END:VEVENT
BEGIN:VEVENT
SUMMARY:Les Pondarmes à 
DESCRIPTION:
LOCATION:\, Clermont en Genevois\, FR
UID:20260627-570-contact.undeces4@gmail.com
URL:https://www.undeces4.com
DTSTART;VALUE=DATE;TZID=GMT:20260627
DTEND;VALUE=DATE;TZID=GMT:20260627
DTSTAMP:20260423T013629Z
END:VEVENT
BEGIN:VEVENT
SUMMARY:Les Pondarmes à 
DESCRIPTION:
LOCATION:\, Fillinges\, FR
UID:20260708-574-contact.undeces4@gmail.com
URL:https://www.undeces4.com
DTSTART;VALUE=DATE;TZID=GMT:20260708
DTEND;VALUE=DATE;TZID=GMT:20260708
DTSTAMP:20260423T013629Z
END:VEVENT
BEGIN:VEVENT
SUMMARY:Les Pondarmes à 
DESCRIPTION:
LOCATION:\, Alba la Romaine\, FR
UID:20260713-576-contact.undeces4@gmail.com
URL:https://www.undeces4.com
DTSTART;VALUE=DATE;TZID=GMT:20260713
DTEND;VALUE=DATE;TZID=GMT:20260715
DTSTAMP:20260423T013629Z
END:VEVENT
BEGIN:VEVENT
SUMMARY:Les Pondarmes à 
DESCRIPTION:
LOCATION:\, La Toussuire\, FR
UID:20260810-585-contact.undeces4@gmail.com
URL:https://www.undeces4.com
DTSTART;VALUE=DATE;TZID=GMT:20260810
DTEND;VALUE=DATE;TZID=GMT:20260810
DTSTAMP:20260423T013629Z
END:VEVENT
BEGIN:VEVENT
SUMMARY:Les Pondarmes à 
DESCRIPTION:
LOCATION:\, Le Quesnoy\, FR
UID:20260830-586-contact.undeces4@gmail.com
URL:https://www.undeces4.com
DTSTART;VALUE=DATE;TZID=GMT:20260830
DTEND;VALUE=DATE;TZID=GMT:20260830
DTSTAMP:20260423T013629Z
END:VEVENT
BEGIN:VEVENT
SUMMARY:Les Pondarmes à 
DESCRIPTION:
LOCATION:\, Annecy\, FR
UID:20260905-580-contact.undeces4@gmail.com
URL:https://www.undeces4.com
DTSTART;VALUE=DATE;TZID=GMT:20260905
DTEND;VALUE=DATE;TZID=GMT:20260905
DTSTAMP:20260423T013629Z
END:VEVENT
END:VCALENDAR